Name | Last modified | Size | Description | |
---|---|---|---|---|
Parent Directory | - | |||
install-out.txt | 18-Apr-2024 00:37 | 1.9K | ||
install-summary.dcf | 18-Apr-2024 00:37 | 271 | ||
buildsrc-summary.dcf | 18-Apr-2024 00:37 | 431 | ||
buildsrc-out.txt | 18-Apr-2024 00:37 | 850 | ||
checksrc-out.txt | 18-Apr-2024 00:37 | 4.9K | ||
checksrc-summary.dcf | 18-Apr-2024 00:37 | 448 | ||
buildbin-out.txt | 18-Apr-2024 00:37 | 3.8K | ||
buildbin-summary.dcf | 18-Apr-2024 00:37 | 537 | ||