Name | Last modified | Size | Description | |
---|---|---|---|---|
Parent Directory | - | |||
install-out.txt | 05-Mar-2024 01:37 | 1.0K | ||
install-summary.dcf | 05-Mar-2024 01:37 | 275 | ||
buildsrc-out.txt | 05-Mar-2024 01:37 | 891 | ||
buildsrc-summary.dcf | 05-Mar-2024 01:37 | 436 | ||
checksrc-out.txt | 05-Mar-2024 01:37 | 4.0K | ||
checksrc-summary.dcf | 05-Mar-2024 01:37 | 456 | ||
buildbin-out.txt | 05-Mar-2024 01:37 | 1.2K | ||
buildbin-summary.dcf | 05-Mar-2024 01:37 | 548 | ||