Name | Last modified | Size | Description | |
---|---|---|---|---|
Parent Directory | - | |||
checksrc-out.txt | 18-Apr-2024 00:35 | 6.4K | ||
install-out.txt | 18-Apr-2024 00:35 | 4.4K | ||
buildsrc-out.txt | 18-Apr-2024 00:35 | 838 | ||
checksrc-summary.dcf | 18-Apr-2024 00:35 | 412 | ||
buildsrc-summary.dcf | 18-Apr-2024 00:35 | 412 | ||
install-summary.dcf | 18-Apr-2024 00:35 | 255 | ||