Name | Last modified | Size | Description | |
---|---|---|---|---|
Parent Directory | - | |||
install-summary.dcf | 18-Apr-2024 00:37 | 265 | ||
buildsrc-summary.dcf | 18-Apr-2024 00:37 | 422 | ||
checksrc-summary.dcf | 18-Apr-2024 00:37 | 442 | ||
buildbin-summary.dcf | 18-Apr-2024 00:37 | 519 | ||
buildsrc-out.txt | 18-Apr-2024 00:37 | 848 | ||
install-out.txt | 18-Apr-2024 00:37 | 4.4K | ||
buildbin-out.txt | 18-Apr-2024 00:37 | 4.6K | ||
checksrc-out.txt | 18-Apr-2024 00:37 | 6.5K | ||