Name | Last modified | Size | Description | |
---|---|---|---|---|
Parent Directory | - | |||
install-summary.dcf | 05-Mar-2024 01:37 | 275 | ||
install-out.txt | 05-Mar-2024 01:37 | 1.6K | ||
checksrc-summary.dcf | 05-Mar-2024 01:37 | 462 | ||
checksrc-out.txt | 05-Mar-2024 01:37 | 3.8K | ||
buildsrc-summary.dcf | 05-Mar-2024 01:37 | 437 | ||
buildsrc-out.txt | 05-Mar-2024 01:37 | 891 | ||
buildbin-summary.dcf | 05-Mar-2024 01:37 | 547 | ||
buildbin-out.txt | 05-Mar-2024 01:37 | 1.8K | ||