Index of /checkResults/3.18/bioc-LATEST/CHETAH/raw-results/palomino4

[ICO]NameLast modifiedSizeDescription

[DIR]Parent Directory  -  
[TXT]buildbin-out.txt30-Mar-2024 00:36 1.1K 
[   ]buildbin-summary.dcf30-Mar-2024 00:36 509  
[TXT]buildsrc-out.txt30-Mar-2024 00:36 894  
[   ]buildsrc-summary.dcf30-Mar-2024 00:36 449  
[TXT]checksrc-out.txt30-Mar-2024 00:36 3.5K 
[   ]checksrc-summary.dcf30-Mar-2024 00:36 443  
[TXT]install-out.txt30-Mar-2024 00:36 968  
[   ]install-summary.dcf30-Mar-2024 00:36 266