Index of /checkResults/3.18/bioc-LATEST/CHETAH/raw-results/nebbiolo2

[ICO]NameLast modifiedSizeDescription

[DIR]Parent Directory  -  
[TXT]buildsrc-out.txt30-Mar-2024 00:35 865  
[   ]buildsrc-summary.dcf30-Mar-2024 00:35 414  
[TXT]checksrc-out.txt30-Mar-2024 00:35 3.5K 
[   ]checksrc-summary.dcf30-Mar-2024 00:35 410  
[TXT]install-out.txt30-Mar-2024 00:35 957  
[   ]install-summary.dcf30-Mar-2024 00:35 257