Name | Last modified | Size | Description | |
---|---|---|---|---|
Parent Directory | - | |||
install-out.txt | 03-Nov-2023 00:40 | 2.9K | ||
install-summary.dcf | 03-Nov-2023 00:40 | 266 | ||
buildsrc-out.txt | 03-Nov-2023 00:40 | 858 | ||
buildsrc-summary.dcf | 03-Nov-2023 00:40 | 432 | ||
checksrc-out.txt | 03-Nov-2023 00:40 | 4.0K | ||
checksrc-summary.dcf | 03-Nov-2023 00:40 | 444 | ||