Index of /checkResults/3.18/bioc-LATEST/BiocSklearn/raw-results/nebbiolo2

[ICO]NameLast modifiedSizeDescription

[DIR]Parent Directory  -  
[TXT]buildsrc-out.txt23-Feb-2024 01:35 822  
[   ]buildsrc-summary.dcf23-Feb-2024 01:35 429  
[TXT]checksrc-out.txt23-Feb-2024 01:35 3.5K 
[   ]checksrc-summary.dcf23-Feb-2024 01:35 430  
[TXT]install-out.txt23-Feb-2024 01:35 964  
[   ]install-summary.dcf23-Feb-2024 01:35 267