Index of /checkResults/3.18/bioc-LATEST/BiocSklearn/raw-results/lconway

[ICO]NameLast modifiedSizeDescription

[DIR]Parent Directory  -  
[TXT]buildbin-out.txt01-Mar-2024 01:37 1.2K 
[   ]buildbin-summary.dcf01-Mar-2024 01:37 554  
[TXT]buildsrc-out.txt01-Mar-2024 01:37 832  
[   ]buildsrc-summary.dcf01-Mar-2024 01:37 439  
[TXT]checksrc-out.txt01-Mar-2024 01:37 3.5K 
[   ]checksrc-summary.dcf01-Mar-2024 01:37 460  
[TXT]install-out.txt01-Mar-2024 01:37 1.0K 
[   ]install-summary.dcf01-Mar-2024 01:37 277