Name | Last modified | Size | Description | |
---|---|---|---|---|
Parent Directory | - | |||
install-out.txt | 18-Apr-2024 00:36 | 1.0K | ||
install-summary.dcf | 18-Apr-2024 00:36 | 269 | ||
buildsrc-out.txt | 18-Apr-2024 00:36 | 903 | ||
buildsrc-summary.dcf | 18-Apr-2024 00:36 | 454 | ||
checksrc-out.txt | 18-Apr-2024 00:36 | 4.3K | ||
checksrc-summary.dcf | 18-Apr-2024 00:36 | 453 | ||
buildbin-out.txt | 18-Apr-2024 00:36 | 1.1K | ||
buildbin-summary.dcf | 18-Apr-2024 00:36 | 518 | ||