Name | Last modified | Size | Description | |
---|---|---|---|---|
Parent Directory | - | |||
buildbin-out.txt | 18-Apr-2024 00:36 | 1.8K | ||
buildbin-summary.dcf | 18-Apr-2024 00:36 | 507 | ||
buildsrc-out.txt | 18-Apr-2024 00:36 | 926 | ||
buildsrc-summary.dcf | 18-Apr-2024 00:36 | 449 | ||
checksrc-out.txt | 18-Apr-2024 00:36 | 4.2K | ||
checksrc-summary.dcf | 18-Apr-2024 00:36 | 443 | ||
install-out.txt | 18-Apr-2024 00:36 | 1.6K | ||
install-summary.dcf | 18-Apr-2024 00:36 | 266 | ||