Name | Last modified | Size | Description | |
---|---|---|---|---|
Parent Directory | - | |||
install-out.txt | 03-Nov-2023 00:40 | 1.0K | ||
install-summary.dcf | 03-Nov-2023 00:40 | 267 | ||
buildsrc-out.txt | 03-Nov-2023 00:40 | 828 | ||
buildsrc-summary.dcf | 03-Nov-2023 00:40 | 431 | ||
checksrc-summary.dcf | 03-Nov-2023 00:40 | 444 | ||
checksrc-out.txt | 03-Nov-2023 00:40 | 3.2K | ||