Index of /checkResults/3.18/bioc-LATEST/BUSpaRse/raw-results/palomino4

[ICO]NameLast modifiedSizeDescription

[DIR]Parent Directory  -  
[TXT]buildbin-out.txt28-Jan-2024 01:36 5.1K 
[   ]buildbin-summary.dcf28-Jan-2024 01:36 521  
[TXT]buildsrc-out.txt23-Feb-2024 01:36 1.9K 
[   ]buildsrc-summary.dcf23-Feb-2024 01:36 372  
[TXT]checksrc-out.txt28-Jan-2024 01:36 5.8K 
[   ]checksrc-summary.dcf28-Jan-2024 01:36 455  
[TXT]install-out.txt23-Feb-2024 01:36 5.0K 
[   ]install-summary.dcf23-Feb-2024 01:36 270