Index of /checkResults/3.18/bioc-LATEST/BUSpaRse/raw-results/nebbiolo2

[ICO]NameLast modifiedSizeDescription

[DIR]Parent Directory  -  
[TXT]buildsrc-out.txt01-Mar-2024 01:35 840  
[   ]buildsrc-summary.dcf01-Mar-2024 01:35 421  
[TXT]checksrc-out.txt01-Mar-2024 01:35 4.4K 
[   ]checksrc-summary.dcf01-Mar-2024 01:35 418  
[TXT]install-out.txt01-Mar-2024 01:35 5.0K 
[   ]install-summary.dcf01-Mar-2024 01:35 261