Index of /checkResults/3.18/bioc-LATEST/BUSpaRse/raw-results/lconway

[ICO]NameLast modifiedSizeDescription

[DIR]Parent Directory  -  
[TXT]buildbin-out.txt24-Jan-2024 01:37 6.5K 
[   ]buildbin-summary.dcf24-Jan-2024 01:37 534  
[TXT]buildsrc-out.txt23-Feb-2024 01:37 1.9K 
[   ]buildsrc-summary.dcf23-Feb-2024 01:37 346  
[TXT]checksrc-out.txt24-Jan-2024 01:37 5.3K 
[   ]checksrc-summary.dcf24-Jan-2024 01:37 452  
[TXT]install-out.txt23-Feb-2024 01:37 2.9K 
[   ]install-summary.dcf23-Feb-2024 01:37 271