Name | Last modified | Size | Description | |
---|---|---|---|---|
Parent Directory | - | |||
checksrc-summary.dcf | 18-Apr-2024 00:35 | 397 | ||
checksrc-out.txt | 18-Apr-2024 00:35 | 5.1K | ||
buildsrc-summary.dcf | 18-Apr-2024 00:35 | 405 | ||
buildsrc-out.txt | 18-Apr-2024 00:35 | 820 | ||
install-summary.dcf | 18-Apr-2024 00:35 | 251 | ||
install-out.txt | 18-Apr-2024 00:35 | 9.0K | ||