Index of /checkResults/3.18/bioc-LATEST/BHC/raw-results/merida1
Name
Last modified
Size
Description
Parent Directory
-
buildsrc-summary.dcf
18-Apr-2024 00:37
335
buildsrc-out.txt
18-Apr-2024 00:37
4.8K
install-summary.dcf
18-Apr-2024 00:37
264
install-out.txt
18-Apr-2024 00:37
4.6K