Name | Last modified | Size | Description | |
---|---|---|---|---|
Parent Directory | - | |||
buildsrc-out.txt | 03-Nov-2023 00:40 | 814 | ||
buildsrc-summary.dcf | 03-Nov-2023 00:40 | 399 | ||
checksrc-out.txt | 03-Nov-2023 00:40 | 5.1K | ||
checksrc-summary.dcf | 03-Nov-2023 00:40 | 400 | ||
install-out.txt | 03-Nov-2023 00:40 | 8.9K | ||
install-summary.dcf | 03-Nov-2023 00:40 | 245 | ||