Name | Last modified | Size | Description | |
---|---|---|---|---|
Parent Directory | - | |||
buildbin-out.txt | 05-Mar-2024 01:37 | 1.2K | ||
buildbin-summary.dcf | 05-Mar-2024 01:37 | 590 | ||
buildsrc-out.txt | 05-Mar-2024 01:37 | 856 | ||
buildsrc-summary.dcf | 05-Mar-2024 01:37 | 457 | ||
checksrc-out.txt | 05-Mar-2024 01:37 | 5.0K | ||
checksrc-summary.dcf | 05-Mar-2024 01:37 | 490 | ||
install-out.txt | 05-Mar-2024 01:37 | 1.0K | ||
install-summary.dcf | 05-Mar-2024 01:37 | 289 | ||