Name | Last modified | Size | Description | |
---|---|---|---|---|
Parent Directory | - | |||
buildsrc-out.txt | 03-Nov-2023 00:40 | 855 | ||
buildsrc-summary.dcf | 03-Nov-2023 00:40 | 405 | ||
checksrc-out.txt | 03-Nov-2023 00:40 | 3.6K | ||
checksrc-summary.dcf | 03-Nov-2023 00:40 | 408 | ||
install-out.txt | 03-Nov-2023 00:40 | 934 | ||
install-summary.dcf | 03-Nov-2023 00:40 | 248 | ||