Name | Last modified | Size | Description | |
---|---|---|---|---|
Parent Directory | - | |||
install-summary.dcf | 18-Apr-2024 00:37 | 274 | ||
buildsrc-summary.dcf | 18-Apr-2024 00:37 | 434 | ||
checksrc-summary.dcf | 18-Apr-2024 00:37 | 453 | ||
buildbin-summary.dcf | 18-Apr-2024 00:37 | 543 | ||
install-out.txt | 18-Apr-2024 00:37 | 1.0K | ||
buildsrc-out.txt | 18-Apr-2024 00:37 | 1.1K | ||
buildbin-out.txt | 18-Apr-2024 00:37 | 1.2K | ||
checksrc-out.txt | 18-Apr-2024 00:37 | 3.8K | ||