Index of /checkResults/3.18/bioc-LATEST/ATACCoGAPS/raw-results/palomino4

[ICO]NameLast modifiedSizeDescription

[DIR]Parent Directory  -  
[TXT]buildbin-out.txt03-Mar-2024 01:36 1.1K 
[   ]buildbin-summary.dcf03-Mar-2024 01:36 530  
[TXT]buildsrc-out.txt03-Mar-2024 01:36 913  
[   ]buildsrc-summary.dcf03-Mar-2024 01:36 463  
[TXT]checksrc-out.txt03-Mar-2024 01:36 4.6K 
[   ]checksrc-summary.dcf03-Mar-2024 01:36 457  
[TXT]install-out.txt03-Mar-2024 01:36 971  
[   ]install-summary.dcf03-Mar-2024 01:36 273