Name | Last modified | Size | Description | |
---|---|---|---|---|
Parent Directory | - | |||
install-summary.dcf | 18-Apr-2024 00:35 | 264 | ||
install-out.txt | 18-Apr-2024 00:35 | 961 | ||
checksrc-summary.dcf | 18-Apr-2024 00:35 | 424 | ||
checksrc-out.txt | 18-Apr-2024 00:35 | 4.7K | ||
buildsrc-summary.dcf | 18-Apr-2024 00:35 | 425 | ||
buildsrc-out.txt | 18-Apr-2024 00:35 | 880 | ||