Index of /checkResults/3.18/bioc-LATEST/ATACCoGAPS/raw-results/nebbiolo2

[ICO]NameLast modifiedSizeDescription

[DIR]Parent Directory  -  
[TXT]buildsrc-out.txt02-Mar-2024 01:35 880  
[   ]buildsrc-summary.dcf02-Mar-2024 01:35 425  
[TXT]checksrc-out.txt02-Mar-2024 01:35 4.7K 
[   ]checksrc-summary.dcf02-Mar-2024 01:35 424  
[TXT]install-out.txt02-Mar-2024 01:35 961  
[   ]install-summary.dcf02-Mar-2024 01:35 264