Name | Last modified | Size | Description | |
---|---|---|---|---|
Parent Directory | - | |||
checksrc-out.txt | 03-Nov-2023 00:40 | 4.7K | ||
install-out.txt | 03-Nov-2023 00:40 | 949 | ||
buildsrc-out.txt | 03-Nov-2023 00:40 | 874 | ||
checksrc-summary.dcf | 03-Nov-2023 00:40 | 431 | ||
buildsrc-summary.dcf | 03-Nov-2023 00:40 | 419 | ||
install-summary.dcf | 03-Nov-2023 00:40 | 258 | ||