Back to Multiple platform build/check report for BioC 3.18:   simplified   long
[A]BCDEFGHIJKLMNOPQRSTUVWXYZ

This page was generated on 2023-11-30 11:37:21 -0500 (Thu, 30 Nov 2023).

HostnameOSArch (*)R versionInstalled pkgs
nebbiolo2Linux (Ubuntu 22.04.2 LTS)x86_644.3.2 Patched (2023-11-13 r85521) -- "Eye Holes" 4685
palomino4Windows Server 2022 Datacenterx644.3.2 (2023-10-31 ucrt) -- "Eye Holes" 4420
lconwaymacOS 12.7.1 Montereyx86_644.3.2 Patched (2023-11-01 r85457) -- "Eye Holes" 4439
Click on any hostname to see more info about the system (e.g. compilers)      (*) as reported by 'uname -p', except on Windows and Mac OS X

Package 104/2266HostnameOS / ArchINSTALLBUILDCHECKBUILD BIN
ATACCoGAPS 1.4.0  (landing page)
Rossin Erbe
Snapshot Date: 2023-11-29 14:05:05 -0500 (Wed, 29 Nov 2023)
git_url: https://git.bioconductor.org/packages/ATACCoGAPS
git_branch: RELEASE_3_18
git_last_commit: 1e97480
git_last_commit_date: 2023-10-24 11:42:56 -0500 (Tue, 24 Oct 2023)
nebbiolo2Linux (Ubuntu 22.04.2 LTS) / x86_64  OK    OK    OK  UNNEEDED, same version is already published
palomino4Windows Server 2022 Datacenter / x64  OK    OK    OK    OK  UNNEEDED, same version is already published
lconwaymacOS 12.7.1 Monterey / x86_64  OK    OK    OK    OK  UNNEEDED, same version is already published
kjohnson1macOS 13.6.1 Ventura / arm64see weekly results here

CHECK results for ATACCoGAPS on lconway


To the developers/maintainers of the ATACCoGAPS package:
- Allow up to 24 hours (and sometimes 48 hours) for your latest push to git@git.bioconductor.org:packages/ATACCoGAPS.git to reflect on this report. See Troubleshooting Build Report for more information.
- Use the following Renviron settings to reproduce errors and warnings.
- If 'R CMD check' started to fail recently on the Linux builder(s) over a missing dependency, add the missing dependency to 'Suggests:' in your DESCRIPTION file. See Renviron.bioc for more information.

raw results


Summary

Package: ATACCoGAPS
Version: 1.4.0
Command: /Library/Frameworks/R.framework/Resources/bin/R CMD check --install=check:ATACCoGAPS.install-out.txt --library=/Library/Frameworks/R.framework/Resources/library --no-vignettes --timings ATACCoGAPS_1.4.0.tar.gz
StartedAt: 2023-11-29 18:46:02 -0500 (Wed, 29 Nov 2023)
EndedAt: 2023-11-29 18:59:53 -0500 (Wed, 29 Nov 2023)
EllapsedTime: 830.7 seconds
RetCode: 0
Status:   OK  
CheckDir: ATACCoGAPS.Rcheck
Warnings: 0

Command output

##############################################################################
##############################################################################
###
### Running command:
###
###   /Library/Frameworks/R.framework/Resources/bin/R CMD check --install=check:ATACCoGAPS.install-out.txt --library=/Library/Frameworks/R.framework/Resources/library --no-vignettes --timings ATACCoGAPS_1.4.0.tar.gz
###
##############################################################################
##############################################################################


* using log directory ‘/Users/biocbuild/bbs-3.18-bioc/meat/ATACCoGAPS.Rcheck’
* using R version 4.3.2 Patched (2023-11-01 r85457)
* using platform: x86_64-apple-darwin20 (64-bit)
* R was compiled by
    Apple clang version 14.0.3 (clang-1403.0.22.14.1)
    GNU Fortran (GCC) 12.2.0
* running under: macOS Monterey 12.7.1
* using session charset: UTF-8
* using option ‘--no-vignettes’
* checking for file ‘ATACCoGAPS/DESCRIPTION’ ... OK
* this is package ‘ATACCoGAPS’ version ‘1.4.0’
* package encoding: UTF-8
* checking package namespace information ... OK
* checking package dependencies ... OK
* checking if this is a source package ... OK
* checking if there is a namespace ... OK
* checking for hidden files and directories ... OK
* checking for portable file names ... OK
* checking for sufficient/correct file permissions ... OK
* checking whether package ‘ATACCoGAPS’ can be installed ... OK
* checking installed package size ... OK
* checking package directory ... OK
* checking ‘build’ directory ... OK
* checking DESCRIPTION meta-information ... OK
* checking top-level files ... OK
* checking for left-over files ... OK
* checking index information ... OK
* checking package subdirectories ... OK
* checking R files for non-ASCII characters ... OK
* checking R files for syntax errors ... OK
* checking whether the package can be loaded ... OK
* checking whether the package can be loaded with stated dependencies ... OK
* checking whether the package can be unloaded cleanly ... OK
* checking whether the namespace can be loaded with stated dependencies ... OK
* checking whether the namespace can be unloaded cleanly ... OK
* checking dependencies in R code ... NOTE
Package in Depends field not imported from: ‘CoGAPS’
  These packages need to be imported from (in the NAMESPACE file)
  for when this namespace is loaded but not attached.
* checking S3 generic/method consistency ... OK
* checking replacement functions ... OK
* checking foreign function calls ... OK
* checking R code for possible problems ... NOTE
cgapsPlot: no visible global function definition for ‘rainbow’
cgapsPlot: no visible global function definition for ‘par’
cgapsPlot: no visible global function definition for ‘legend’
findOverlap: no visible global function definition for ‘queryHits’
geneAccessibility: no visible global function definition for
  ‘subjectHits’
heatmapGeneAccessibility: no visible global function definition for
  ‘rainbow’
heatmapPatternMarkers: no visible global function definition for
  ‘rainbow’
heatmapPatternMatrix: no visible global function definition for
  ‘rainbow’
paths: no visible global function definition for ‘p.adjust’
Undefined global functions or variables:
  legend p.adjust par queryHits rainbow subjectHits
Consider adding
  importFrom("grDevices", "rainbow")
  importFrom("graphics", "legend", "par")
  importFrom("stats", "p.adjust")
to your NAMESPACE file.
* checking Rd files ... OK
* checking Rd metadata ... OK
* checking Rd cross-references ... OK
* checking for missing documentation entries ... OK
* checking for code/documentation mismatches ... OK
* checking Rd \usage sections ... OK
* checking Rd contents ... OK
* checking for unstated dependencies in examples ... OK
* checking contents of ‘data’ directory ... OK
* checking data for non-ASCII characters ... OK
* checking data for ASCII and uncompressed saves ... OK
* checking R/sysdata.rda ... OK
* checking files in ‘vignettes’ ... OK
* checking examples ... OK
Examples with CPU (user + system) or elapsed time > 5s
                      user system elapsed
applyGREAT         105.172 51.070 256.406
simpleMotifTFMatch  69.635 17.449  88.148
motifPatternMatch   44.322  4.421  49.655
pathwayMatch        33.091  1.898  35.265
genePatternMatch    30.410  1.512  32.120
* checking for unstated dependencies in vignettes ... OK
* checking package vignettes in ‘inst/doc’ ... OK
* checking running R code from vignettes ... SKIPPED
* checking re-building of vignette outputs ... SKIPPED
* checking PDF version of manual ... OK
* DONE

Status: 2 NOTEs
See
  ‘/Users/biocbuild/bbs-3.18-bioc/meat/ATACCoGAPS.Rcheck/00check.log’
for details.



Installation output

ATACCoGAPS.Rcheck/00install.out

##############################################################################
##############################################################################
###
### Running command:
###
###   /Library/Frameworks/R.framework/Resources/bin/R CMD INSTALL ATACCoGAPS
###
##############################################################################
##############################################################################


* installing to library ‘/Library/Frameworks/R.framework/Versions/4.3-x86_64/Resources/library’
* installing *source* package ‘ATACCoGAPS’ ...
** using staged installation
** R
** data
** byte-compile and prepare package for lazy loading
** help
*** installing help indices
** building package indices
** installing vignettes
** testing if installed package can be loaded from temporary location
** testing if installed package can be loaded from final location
** testing if installed package keeps a record of temporary installation path
* DONE (ATACCoGAPS)

Tests output


Example timings

ATACCoGAPS.Rcheck/ATACCoGAPS-Ex.timings

nameusersystemelapsed
RNAseqTFValidation0.0000.0010.001
applyGREAT105.172 51.070256.406
cgapsPlot0.3060.0330.343
dataSubsetBySparsity1.7770.1361.924
foldAccessibility4.3800.2564.670
geneAccessibility4.1190.3134.457
genePatternMatch30.410 1.51232.120
heatmapGeneAccessibility4.6010.1784.828
heatmapPatternMarkers2.3860.2722.772
heatmapPatternMatrix0.7840.0250.815
motifPatternMatch44.322 4.42149.655
motifSummarization000
pathwayMatch33.091 1.89835.265
patternMarkerCellClassifier0.1830.0040.190
peaksToGRanges0.2710.0030.275
simpleMotifTFMatch69.63517.44988.148