Index of /checkResults/3.18/bioc-LATEST/AHMassBank/raw-results/palomino4

[ICO]NameLast modifiedSizeDescription

[DIR]Parent Directory  -  
[TXT]buildbin-out.txt30-Mar-2024 00:36 1.1K 
[   ]buildbin-summary.dcf30-Mar-2024 00:36 530  
[TXT]buildsrc-out.txt30-Mar-2024 00:36 853  
[   ]buildsrc-summary.dcf30-Mar-2024 00:36 462  
[TXT]checksrc-out.txt30-Mar-2024 00:36 3.0K 
[   ]checksrc-summary.dcf30-Mar-2024 00:36 457  
[TXT]install-out.txt30-Mar-2024 00:36 971  
[   ]install-summary.dcf30-Mar-2024 00:36 273