Name | Last modified | Size | Description | |
---|---|---|---|---|
Parent Directory | - | |||
checksrc-out.txt | 18-Apr-2024 00:35 | 3.1K | ||
install-out.txt | 18-Apr-2024 00:35 | 961 | ||
buildsrc-out.txt | 18-Apr-2024 00:35 | 817 | ||
checksrc-summary.dcf | 18-Apr-2024 00:35 | 424 | ||
buildsrc-summary.dcf | 18-Apr-2024 00:35 | 424 | ||
install-summary.dcf | 18-Apr-2024 00:35 | 264 | ||