Index of /checkResults/3.17/workflows-LATEST/BP4RNAseq/raw-results
Name
Last modified
Size
Description
Parent Directory
-
merida1/
14-Oct-2023 03:00
-
info.dcf
14-Oct-2023 03:00
274
palomino3/
14-Oct-2023 03:00
-
nebbiolo1/
14-Oct-2023 03:00
-