Index of /checkResults/3.17/data-experiment-LATEST/tweeDEseqCountData/raw-results
Name
Last modified
Size
Description
Parent Directory
-
nebbiolo1/
05-Jul-2023 03:51
-
info.dcf
05-Jul-2023 03:51
296