Name | Last modified | Size | Description | |
---|---|---|---|---|
Parent Directory | - | |||
install-summary.dcf | 13-Oct-2023 03:51 | 273 | ||
install-out.txt | 13-Oct-2023 03:51 | 1.0K | ||
checksrc-summary.dcf | 13-Oct-2023 03:51 | 442 | ||
checksrc-out.txt | 13-Oct-2023 03:51 | 3.6K | ||
buildsrc-summary.dcf | 13-Oct-2023 03:51 | 438 | ||
buildsrc-out.txt | 13-Oct-2023 03:51 | 897 | ||