Index of /checkResults/3.17/data-experiment-LATEST/simpIntLists/raw-results
Name
Last modified
Size
Description
Parent Directory
-
info.dcf
02-Jun-2023 03:51
290
nebbiolo1/
02-Jun-2023 03:51
-