Back to Build/check report for BioC 3.17 experimental data
ABCDEFGHIJKLMNOPQR[S]TUVWXYZ

This page was generated on 2023-06-01 14:51:14 -0400 (Thu, 01 Jun 2023).

HostnameOSArch (*)R versionInstalled pkgs
nebbiolo1Linux (Ubuntu 22.04.2 LTS)x86_644.3.0 RC (2023-04-13 r84269) -- "Already Tomorrow" 4618
Click on any hostname to see more info about the system (e.g. compilers)      (*) as reported by 'uname -p', except on Windows and Mac OS X

BUILD results for simpIntLists on nebbiolo1


To the developers/maintainers of the simpIntLists package:
Use the following Renviron settings to reproduce errors and warnings.

Note: If "R CMD check" recently failed on the Linux builder over a missing dependency, add the missing dependency to "Suggests" in your DESCRIPTION file. See the Renviron.bioc for details.

raw results

Package 362/421HostnameOS / ArchINSTALLBUILDCHECK
simpIntLists 1.36.0  (landing page)
Kircicegi Korkmaz
Snapshot Date: 2023-06-01 07:30:02 -0400 (Thu, 01 Jun 2023)
git_url: https://git.bioconductor.org/packages/simpIntLists
git_branch: RELEASE_3_17
git_last_commit: a8d4321
git_last_commit_date: 2023-04-25 09:52:51 -0400 (Tue, 25 Apr 2023)
nebbiolo1Linux (Ubuntu 22.04.2 LTS) / x86_64  OK    OK    WARNINGS  UNNEEDED, same version is already published

Summary

Package: simpIntLists
Version: 1.36.0
Command: /home/biocbuild/bbs-3.17-bioc/R/bin/R CMD build --keep-empty-dirs --no-resave-data simpIntLists
StartedAt: 2023-06-01 10:51:17 -0400 (Thu, 01 Jun 2023)
EndedAt: 2023-06-01 10:51:24 -0400 (Thu, 01 Jun 2023)
EllapsedTime: 6.7 seconds
RetCode: 0
Status:   OK  
PackageFile: simpIntLists_1.36.0.tar.gz
PackageFileSize: 4.366 MiB

Command output

##############################################################################
##############################################################################
###
### Running command:
###
###   /home/biocbuild/bbs-3.17-bioc/R/bin/R CMD build --keep-empty-dirs --no-resave-data simpIntLists
###
##############################################################################
##############################################################################


* checking for file ‘simpIntLists/DESCRIPTION’ ... OK
* preparing ‘simpIntLists’:
* checking DESCRIPTION meta-information ... OK
* installing the package to build vignettes
* creating vignettes ... OK
* checking for LF line-endings in source and make files and shell scripts
* checking for empty or unneeded directories
* looking to see if a ‘data/datalist’ file should be added
* building ‘simpIntLists_1.36.0.tar.gz’