Name | Last modified | Size | Description | |
---|---|---|---|---|
Parent Directory | - | |||
checksrc-out.txt | 13-Oct-2023 03:51 | 3.3K | ||
install-out.txt | 13-Oct-2023 03:51 | 937 | ||
buildsrc-out.txt | 13-Oct-2023 03:51 | 766 | ||
checksrc-summary.dcf | 13-Oct-2023 03:51 | 451 | ||
buildsrc-summary.dcf | 13-Oct-2023 03:51 | 440 | ||
install-summary.dcf | 13-Oct-2023 03:51 | 275 | ||