Back to Build/check report for BioC 3.17 experimental data
ABCDEFGHIJKLMNOPQR[S]TUVWXYZ

This page was generated on 2023-06-08 14:51:11 -0400 (Thu, 08 Jun 2023).

HostnameOSArch (*)R versionInstalled pkgs
nebbiolo1Linux (Ubuntu 22.04.2 LTS)x86_644.3.0 RC (2023-04-13 r84269) -- "Already Tomorrow" 4628
Click on any hostname to see more info about the system (e.g. compilers)      (*) as reported by 'uname -p', except on Windows and Mac OS X

All results for package sesameData


To the developers/maintainers of the sesameData package:
- Use the following Renviron settings to reproduce errors and warnings.
- If 'R CMD check' started to fail recently on the Linux builder(s) over a missing dependency, add the missing dependency to 'Suggests:' in your DESCRIPTION file. See Renviron.bioc for more information.

raw results

Package 356/421HostnameOS / ArchINSTALLBUILDCHECK
sesameData 1.18.0  (landing page)
Wanding Zhou
Snapshot Date: 2023-06-08 07:30:02 -0400 (Thu, 08 Jun 2023)
git_url: https://git.bioconductor.org/packages/sesameData
git_branch: RELEASE_3_17
git_last_commit: 41d37af
git_last_commit_date: 2023-04-25 10:45:39 -0400 (Tue, 25 Apr 2023)
nebbiolo1Linux (Ubuntu 22.04.2 LTS) / x86_64  OK    OK    OK  UNNEEDED, same version is already published