Name | Last modified | Size | Description | |
---|---|---|---|---|
Parent Directory | - | |||
install-summary.dcf | 13-Oct-2023 03:51 | 258 | ||
buildsrc-out.txt | 13-Oct-2023 03:51 | 845 | ||
buildsrc-summary.dcf | 13-Oct-2023 03:51 | 415 | ||
checksrc-out.txt | 13-Oct-2023 03:51 | 3.3K | ||
checksrc-summary.dcf | 13-Oct-2023 03:51 | 412 | ||
install-out.txt | 13-Oct-2023 03:51 | 952 | ||