Name | Last modified | Size | Description | |
---|---|---|---|---|
Parent Directory | - | |||
install-out.txt | 13-Oct-2023 03:51 | 933 | ||
install-summary.dcf | 13-Oct-2023 03:51 | 285 | ||
buildsrc-out.txt | 13-Oct-2023 03:51 | 1.4K | ||
buildsrc-summary.dcf | 13-Oct-2023 03:51 | 456 | ||
checksrc-out.txt | 13-Oct-2023 03:51 | 3.2K | ||
checksrc-summary.dcf | 13-Oct-2023 03:51 | 465 | ||