Back to Build/check report for BioC 3.17 experimental data
ABCDEFGHIJKLMNO[P]QRSTUVWXYZ

This page was generated on 2023-01-24 14:51:31 -0500 (Tue, 24 Jan 2023).

HostnameOSArch (*)R versionInstalled pkgs
nebbiolo1Linux (Ubuntu 22.04.1 LTS)x86_64R Under development (unstable) (2023-01-10 r83596) -- "Unsuffered Consequences" 4464
Click on any hostname to see more info about the system (e.g. compilers)      (*) as reported by 'uname -p', except on Windows and Mac OS X

All results for package prostateCancerGrasso


To the developers/maintainers of the prostateCancerGrasso package:
Make sure to use the following settings in order to reproduce any error or warning you see on this page.

raw results

Package 289/414HostnameOS / ArchINSTALLBUILDCHECK
prostateCancerGrasso 1.27.0  (landing page)
Mark Dunning
Snapshot Date: 2023-01-24 07:30:02 -0500 (Tue, 24 Jan 2023)
git_url: https://git.bioconductor.org/packages/prostateCancerGrasso
git_branch: master
git_last_commit: 0b4ab89
git_last_commit_date: 2022-11-01 11:11:37 -0500 (Tue, 01 Nov 2022)
nebbiolo1Linux (Ubuntu 22.04.1 LTS) / x86_64  OK    OK    WARNINGS  UNNEEDED, same version is already published