Name | Last modified | Size | Description | |
---|---|---|---|---|
Parent Directory | - | |||
install-summary.dcf | 13-Oct-2023 03:51 | 255 | ||
buildsrc-summary.dcf | 13-Oct-2023 03:51 | 413 | ||
checksrc-summary.dcf | 13-Oct-2023 03:51 | 415 | ||
buildsrc-out.txt | 13-Oct-2023 03:51 | 864 | ||
install-out.txt | 13-Oct-2023 03:51 | 949 | ||
checksrc-out.txt | 13-Oct-2023 03:51 | 4.3K | ||