Name | Last modified | Size | Description | |
---|---|---|---|---|
Parent Directory | - | |||
install-summary.dcf | 13-Oct-2023 03:51 | 268 | ||
buildsrc-summary.dcf | 13-Oct-2023 03:51 | 433 | ||
checksrc-summary.dcf | 13-Oct-2023 03:51 | 433 | ||
buildsrc-out.txt | 13-Oct-2023 03:51 | 794 | ||
install-out.txt | 13-Oct-2023 03:51 | 885 | ||
checksrc-out.txt | 13-Oct-2023 03:51 | 2.7K | ||