Name | Last modified | Size | Description | |
---|---|---|---|---|
Parent Directory | - | |||
install-summary.dcf | 13-Oct-2023 03:51 | 275 | ||
buildsrc-summary.dcf | 13-Oct-2023 03:51 | 441 | ||
checksrc-summary.dcf | 13-Oct-2023 03:51 | 446 | ||
buildsrc-out.txt | 13-Oct-2023 03:51 | 901 | ||
install-out.txt | 13-Oct-2023 03:51 | 1.0K | ||
checksrc-out.txt | 13-Oct-2023 03:51 | 3.3K | ||