Index of /checkResults/3.17/data-experiment-LATEST/curatedCRCData/raw-results

[ICO]NameLast modifiedSizeDescription

[DIR]Parent Directory  -  
[   ]info.dcf31-Mar-2023 03:51 281  
[DIR]nebbiolo1/31-Mar-2023 03:51 -