Back to Build/check report for BioC 3.17 experimental data
AB[C]DEFGHIJKLMNOPQRSTUVWXYZ

This page was generated on 2023-03-16 14:51:35 -0400 (Thu, 16 Mar 2023).

HostnameOSArch (*)R versionInstalled pkgs
nebbiolo1Linux (Ubuntu 22.04.1 LTS)x86_64R Under development (unstable) (2023-01-10 r83596) -- "Unsuffered Consequences" 4540
Click on any hostname to see more info about the system (e.g. compilers)      (*) as reported by 'uname -p', except on Windows and Mac OS X

BUILD results for curatedCRCData on nebbiolo1


To the developers/maintainers of the curatedCRCData package:
Make sure to use the following settings in order to reproduce any error or warning you see on this page.

raw results

Package 82/417HostnameOS / ArchINSTALLBUILDCHECK
curatedCRCData 2.31.0  (landing page)
Princy Parsana
Snapshot Date: 2023-03-16 07:30:02 -0400 (Thu, 16 Mar 2023)
git_url: https://git.bioconductor.org/packages/curatedCRCData
git_branch: master
git_last_commit: e9d96f3
git_last_commit_date: 2022-11-01 10:59:09 -0400 (Tue, 01 Nov 2022)
nebbiolo1Linux (Ubuntu 22.04.1 LTS) / x86_64  OK    OK    OK  UNNEEDED, same version is already published

Summary

Package: curatedCRCData
Version: 2.31.0
Command: /home/biocbuild/bbs-3.17-bioc/R/bin/R CMD build --keep-empty-dirs --no-resave-data curatedCRCData
StartedAt: 2023-03-16 10:20:13 -0400 (Thu, 16 Mar 2023)
EndedAt: 2023-03-16 10:21:46 -0400 (Thu, 16 Mar 2023)
EllapsedTime: 92.1 seconds
RetCode: 0
Status:   OK  
PackageFile: curatedCRCData_2.31.0.tar.gz
PackageFileSize: 399 MiB

Command output

##############################################################################
##############################################################################
###
### Running command:
###
###   /home/biocbuild/bbs-3.17-bioc/R/bin/R CMD build --keep-empty-dirs --no-resave-data curatedCRCData
###
##############################################################################
##############################################################################


* checking for file ‘curatedCRCData/DESCRIPTION’ ... OK
* preparing ‘curatedCRCData’:
* checking DESCRIPTION meta-information ... OK
* installing the package to process help pages
* building the PDF package manual
* creating vignettes ... OK
* checking for LF line-endings in source and make files and shell scripts
* checking for empty or unneeded directories
* looking to see if a ‘data/datalist’ file should be added
* building ‘curatedCRCData_2.31.0.tar.gz’