Name | Last modified | Size | Description | |
---|---|---|---|---|
Parent Directory | - | |||
buildsrc-out.txt | 13-Oct-2023 03:51 | 886 | ||
buildsrc-summary.dcf | 13-Oct-2023 03:51 | 447 | ||
checksrc-out.txt | 13-Oct-2023 03:51 | 3.3K | ||
checksrc-summary.dcf | 13-Oct-2023 03:51 | 453 | ||
install-out.txt | 13-Oct-2023 03:51 | 1.0K | ||
install-summary.dcf | 13-Oct-2023 03:51 | 278 | ||