Name | Last modified | Size | Description | |
---|---|---|---|---|
Parent Directory | - | |||
buildsrc-out.txt | 13-Oct-2023 03:51 | 806 | ||
buildsrc-summary.dcf | 13-Oct-2023 03:51 | 417 | ||
checksrc-out.txt | 13-Oct-2023 03:51 | 3.5K | ||
checksrc-summary.dcf | 13-Oct-2023 03:51 | 420 | ||
install-out.txt | 13-Oct-2023 03:51 | 952 | ||
install-summary.dcf | 13-Oct-2023 03:51 | 259 | ||