Back to Build/check report for BioC 3.17 experimental data
AB[C]DEFGHIJKLMNOPQRSTUVWXYZ

This page was generated on 2023-02-07 14:51:31 -0500 (Tue, 07 Feb 2023).

HostnameOSArch (*)R versionInstalled pkgs
nebbiolo1Linux (Ubuntu 22.04.1 LTS)x86_64R Under development (unstable) (2023-01-10 r83596) -- "Unsuffered Consequences" 4483
Click on any hostname to see more info about the system (e.g. compilers)      (*) as reported by 'uname -p', except on Windows and Mac OS X

All results for package ccTutorial


To the developers/maintainers of the ccTutorial package:
Make sure to use the following settings in order to reproduce any error or warning you see on this page.

raw results

Package 49/415HostnameOS / ArchINSTALLBUILDCHECK
ccTutorial 1.37.0  (landing page)
Joern Toedling
Snapshot Date: 2023-02-07 07:30:02 -0500 (Tue, 07 Feb 2023)
git_url: https://git.bioconductor.org/packages/ccTutorial
git_branch: master
git_last_commit: 7c63a42
git_last_commit_date: 2022-11-01 10:43:26 -0500 (Tue, 01 Nov 2022)
nebbiolo1Linux (Ubuntu 22.04.1 LTS) / x86_64  OK    OK    OK  UNNEEDED, same version is already published