Back to Build/check report for BioC 3.17 experimental data |
|
This page was generated on 2023-01-31 14:51:29 -0500 (Tue, 31 Jan 2023).
Hostname | OS | Arch (*) | R version | Installed pkgs |
---|---|---|---|---|
nebbiolo1 | Linux (Ubuntu 22.04.1 LTS) | x86_64 | R Under development (unstable) (2023-01-10 r83596) -- "Unsuffered Consequences" | 4482 |
Click on any hostname to see more info about the system (e.g. compilers) (*) as reported by 'uname -p', except on Windows and Mac OS X |
To the developers/maintainers of the bsseqData package: Make sure to use the following settings in order to reproduce any error or warning you see on this page. |
Package 44/415 | Hostname | OS / Arch | INSTALL | BUILD | CHECK | ||||||||
bsseqData 0.37.0 (landing page) Kasper Daniel Hansen
| nebbiolo1 | Linux (Ubuntu 22.04.1 LTS) / x86_64 | OK | OK | WARNINGS | ![]() | |||||||