Name | Last modified | Size | Description | |
---|---|---|---|---|
Parent Directory | - | |||
buildsrc-out.txt | 13-Oct-2023 03:51 | 956 | ||
buildsrc-summary.dcf | 13-Oct-2023 03:51 | 455 | ||
checksrc-out.txt | 13-Oct-2023 03:51 | 3.1K | ||
checksrc-summary.dcf | 13-Oct-2023 03:51 | 471 | ||
install-out.txt | 13-Oct-2023 03:51 | 909 | ||
install-summary.dcf | 13-Oct-2023 03:51 | 284 | ||