Name | Last modified | Size | Description | |
---|---|---|---|---|
Parent Directory | - | |||
checksrc-summary.dcf | 13-Oct-2023 03:51 | 411 | ||
checksrc-out.txt | 13-Oct-2023 03:51 | 3.0K | ||
install-summary.dcf | 13-Oct-2023 03:51 | 254 | ||
install-out.txt | 13-Oct-2023 03:51 | 872 | ||
buildsrc-summary.dcf | 13-Oct-2023 03:51 | 410 | ||
buildsrc-out.txt | 13-Oct-2023 03:51 | 789 | ||